BEGIN:VCALENDAR
VERSION:2.0
PRODID:-//Freestyle Alberta - ECPv6.15.20//NONSGML v1.0//EN
CALSCALE:GREGORIAN
METHOD:PUBLISH
X-WR-CALNAME:Freestyle Alberta
X-ORIGINAL-URL:https://freestylealberta.ski
X-WR-CALDESC:Events for Freestyle Alberta
REFRESH-INTERVAL;VALUE=DURATION:PT1H
X-Robots-Tag:noindex
X-PUBLISHED-TTL:PT1H
BEGIN:VTIMEZONE
TZID:America/Edmonton
BEGIN:DAYLIGHT
TZOFFSETFROM:-0700
TZOFFSETTO:-0600
TZNAME:MDT
DTSTART:20240310T090000
END:DAYLIGHT
BEGIN:STANDARD
TZOFFSETFROM:-0600
TZOFFSETTO:-0700
TZNAME:MST
DTSTART:20241103T080000
END:STANDARD
BEGIN:DAYLIGHT
TZOFFSETFROM:-0700
TZOFFSETTO:-0600
TZNAME:MDT
DTSTART:20250309T090000
END:DAYLIGHT
BEGIN:STANDARD
TZOFFSETFROM:-0600
TZOFFSETTO:-0700
TZNAME:MST
DTSTART:20251102T080000
END:STANDARD
BEGIN:DAYLIGHT
TZOFFSETFROM:-0700
TZOFFSETTO:-0600
TZNAME:MDT
DTSTART:20260308T090000
END:DAYLIGHT
BEGIN:STANDARD
TZOFFSETFROM:-0600
TZOFFSETTO:-0700
TZNAME:MST
DTSTART:20261101T080000
END:STANDARD
END:VTIMEZONE
BEGIN:VEVENT
DTSTART;VALUE=DATE:20250823
DTEND;VALUE=DATE:20250825
DTSTAMP:20260421T022405
CREATED:20250729T210043Z
LAST-MODIFIED:20250729T210707Z
UID:10000811-1755907200-1756079999@freestylealberta.ski
SUMMARY:AIR 1 CALGARY - THE SPOT
DESCRIPTION:DETAILS & REGISTRATION
URL:https://freestylealberta.ski/event/air-1-calgary-the-spot/
LOCATION:Calgary Central Sportsplex\, 8-401 33 St NE\, Calgary\, Alberta\, T2A 7R3\, Canada
CATEGORIES:Coach Development
END:VEVENT
BEGIN:VEVENT
DTSTART;VALUE=DATE:20250823
DTEND;VALUE=DATE:20250825
DTSTAMP:20260421T022405
CREATED:20250731T194937Z
LAST-MODIFIED:20250731T200642Z
UID:10000815-1755907200-1756079999@freestylealberta.ski
SUMMARY:Girstylerz Summer Camp at Evolution Freestyle
DESCRIPTION:CAMP REGISTRATION\nCAMP DETAILS: Girlstylerz Canada Training Camp.docx \n \n 
URL:https://freestylealberta.ski/event/girstylerz-summer-camp-at-evolution-freestyle/
LOCATION:EVOLUTION FREESTYLE\, Range Rd 241A\, Tawatinaw\, Alberta\, T0G 1Z0\, Canada
CATEGORIES:Females In Freestyle,Training Camps
END:VEVENT
BEGIN:VEVENT
DTSTART;VALUE=DATE:20250825
DTEND;VALUE=DATE:20250828
DTSTAMP:20260421T022405
CREATED:20250729T210625Z
LAST-MODIFIED:20250729T210645Z
UID:10000812-1756080000-1756339199@freestylealberta.ski
SUMMARY:AIR 2 CALGARY - THE SPOT
DESCRIPTION:DETAILS & REGISTRATION
URL:https://freestylealberta.ski/event/air-2-calgary-the-spot/
LOCATION:Calgary Central Sportsplex\, 8-401 33 St NE\, Calgary\, Alberta\, T2A 7R3\, Canada
CATEGORIES:Coach Development
END:VEVENT
BEGIN:VEVENT
DTSTART;VALUE=DATE:20250828
DTEND;VALUE=DATE:20250830
DTSTAMP:20260421T022405
CREATED:20250821T223743Z
LAST-MODIFIED:20250821T223743Z
UID:10000816-1756339200-1756511999@freestylealberta.ski
SUMMARY:AIR 1 *Second Course Added
DESCRIPTION:DETAILS & REGISTRATION
URL:https://freestylealberta.ski/event/air-1-second-course-added/
LOCATION:Calgary Central Sportsplex\, 8-401 33 St NE\, Calgary\, Alberta\, T2A 7R3\, Canada
END:VEVENT
BEGIN:VEVENT
DTSTART;VALUE=DATE:20250830
DTEND;VALUE=DATE:20250902
DTSTAMP:20260421T022405
CREATED:20250729T213853Z
LAST-MODIFIED:20250821T222520Z
UID:10000813-1756512000-1756771199@freestylealberta.ski
SUMMARY:AIR DOUBLES ON TRAMPOLINE - CALGARY
DESCRIPTION:DETAILS & REGISTRATION
URL:https://freestylealberta.ski/event/air-doubles-on-trampoline-calgary/
LOCATION:Calgary Central Sportsplex\, 8-401 33 St NE\, Calgary\, Alberta\, T2A 7R3\, Canada
CATEGORIES:Coach Development
END:VEVENT
END:VCALENDAR