BEGIN:VCALENDAR
VERSION:2.0
PRODID:-//Freestyle Alberta - ECPv6.15.20//NONSGML v1.0//EN
CALSCALE:GREGORIAN
METHOD:PUBLISH
X-ORIGINAL-URL:https://freestylealberta.ski
X-WR-CALDESC:Events for Freestyle Alberta
REFRESH-INTERVAL;VALUE=DURATION:PT1H
X-Robots-Tag:noindex
X-PUBLISHED-TTL:PT1H
BEGIN:VTIMEZONE
TZID:America/Edmonton
BEGIN:DAYLIGHT
TZOFFSETFROM:-0700
TZOFFSETTO:-0600
TZNAME:MDT
DTSTART:20240310T090000
END:DAYLIGHT
BEGIN:STANDARD
TZOFFSETFROM:-0600
TZOFFSETTO:-0700
TZNAME:MST
DTSTART:20241103T080000
END:STANDARD
BEGIN:DAYLIGHT
TZOFFSETFROM:-0700
TZOFFSETTO:-0600
TZNAME:MDT
DTSTART:20250309T090000
END:DAYLIGHT
BEGIN:STANDARD
TZOFFSETFROM:-0600
TZOFFSETTO:-0700
TZNAME:MST
DTSTART:20251102T080000
END:STANDARD
BEGIN:DAYLIGHT
TZOFFSETFROM:-0700
TZOFFSETTO:-0600
TZNAME:MDT
DTSTART:20260308T090000
END:DAYLIGHT
BEGIN:STANDARD
TZOFFSETFROM:-0600
TZOFFSETTO:-0700
TZNAME:MST
DTSTART:20261101T080000
END:STANDARD
BEGIN:DAYLIGHT
TZOFFSETFROM:-0700
TZOFFSETTO:-0600
TZNAME:MDT
DTSTART:20270314T090000
END:DAYLIGHT
BEGIN:STANDARD
TZOFFSETFROM:-0600
TZOFFSETTO:-0700
TZNAME:MST
DTSTART:20271107T080000
END:STANDARD
END:VTIMEZONE
BEGIN:VEVENT
DTSTART;VALUE=DATE:20251229
DTEND;VALUE=DATE:20260105
DTSTAMP:20260424T031412
CREATED:20251113T205725Z
LAST-MODIFIED:20251228T171831Z
UID:10000844-1766966400-1767571199@freestylealberta.ski
SUMMARY:2026 FIS Snow Rodeo Halfpipe World Cup
DESCRIPTION:2026 FIS Snow Rodeo – Halfpipe World Cup\n**SCHEDULE CHANGE**\nDecember 27\, 2025 – January 4\, 2026\nDecember 28th- Team Arrivals\nDecember 29th- No Activity\nDecember 30th- Training day – SB in the morning Ski in the afternoon\nDecember 31st- Training day – Ski in the morning Snowboard in the afternoon\nJanuary 1st- Ski Qualifications –\n\nand Freestyle Alberta’s Snowflake RODEO\nRegister Here\n\nJanuary 2nd – Snowboard Qualifications\nJanuary 3rd- Finals – Ski in the Morning Snowboard in the evening.\nThis year\, the worlds best skiers and snowboarders are vying for their last chance to qualify for the 2026 Olympic Games\, and they need your help! \nThe Volunteer link is out. We have a variety of different roles\, where your skill set can shine.  If you have the skills to ‘slip the pipe’\, wish to ‘check-in’ with the VIP’s\, want to work on your officials levels? keen to work alongside local and international media?\, or maybe stay inside and ensure the teams have what they need before they hit the ‘pipe’\, – we have an opportunity for you! \nVolunteer last minute sign up link:  \nhttps://www.signupgenius.com/go/5080D4EA8AA2FA0F85-60396220-halfpipe#/ \nor… \ncontact patrick@freestylealberta.ski \n  \nDetailed Schedule ( subject to change ) \nCalgary FK-SB HP Jan 2026-2 \nUpdated Calgary Schedule 22122025
URL:https://freestylealberta.ski/event/2026-fis-snow-rodeo-halfpipe-world-cup/
LOCATION:Winsport\, Calgary\, Alberta
CATEGORIES:World Cup HP
ATTACH;FMTTYPE=image/png:https://freestylealberta.ski/wp-content/uploads/2025/11/Screenshot_2025-11-13_at_8.39.56AM-20251113074210.png
END:VEVENT
BEGIN:VEVENT
DTSTART;VALUE=DATE:20260101
DTEND;VALUE=DATE:20260102
DTSTAMP:20260424T031412
CREATED:20251223T203342Z
LAST-MODIFIED:20251231T174042Z
UID:10000856-1767225600-1767311999@freestylealberta.ski
SUMMARY:The Snowflake Rodeo
DESCRIPTION:CANCELLED \n  \n  \nFreestyle Alberta has been collaborating with local clubs and ski areas from across Alberta to initiate a Try Freestyle program that invites young skiers to experience Freestyle Skiing with certified coaches at Calgary’s premier World Cup event The Snow RODEO. \n\nDescription: After the qualifying round on January 1st the halfpipe will be open to the participants of the Snowflake Rodeo for a chance to ski in the same halfpipe as the pros. \nFreestyle Alberta will have certified coaches on site and participants will have a chance to meet some of the Canadian Halfpipe Team. \n—— \n\nCost: $25 (includes a Try Freestyle Membership to Freestyle Alberta)\n——\nREGISTER
URL:https://freestylealberta.ski/event/the-snowflake-rodeo/
LOCATION:Winsport\, Calgary\, Alberta\, Canada
END:VEVENT
BEGIN:VEVENT
DTSTART;VALUE=DATE:20260103
DTEND;VALUE=DATE:20260105
DTSTAMP:20260424T031412
CREATED:20251223T191646Z
LAST-MODIFIED:20251223T192438Z
UID:10000855-1767398400-1767571199@freestylealberta.ski
SUMMARY:Canyon Mogul Course Build (Jan. 3-4 @ Canyon)
DESCRIPTION:We’re gearing up for our annual Big Mogul Course Build at Canyon Ski Resort and would love your help! \nVolunteers\, coaches\, and athletes are invited to join us for two days of building one of the key mogul courses of the season. This is a great opportunity to give back\, connect with the freestyle community\, and help set the stage for a successful winter. \nLunches and lift passes will be provided for all volunteers who assist with the build. \nPlease be sure to sign up in advance so we know who’s coming and can plan and communicate accordingly. Thank you in advance for supporting freestyle skiing in Alberta—we look forward to seeing you on the hill! \n📅 January 3–4\n📍 Canyon Ski Resort \nSIGN UP HERE\n 
URL:https://freestylealberta.ski/event/canyon-mogul-course-build-jan-3-4-canyon/
LOCATION:Alberta
CATEGORIES:Coach Development
END:VEVENT
BEGIN:VEVENT
DTSTART;VALUE=DATE:20260122
DTEND;VALUE=DATE:20260124
DTSTAMP:20260424T031412
CREATED:20251023T164311Z
LAST-MODIFIED:20260119T161854Z
UID:10000825-1769040000-1769212799@freestylealberta.ski
SUMMARY:2026 FIS Calgary NORAM HP/HP
DESCRIPTION:Freestyle Canada and Freestyle Alberta are pleased to host the FIS 2026 Calgary NorAM Cup HP / HP\nEVENT WAIVER ( mandatory) \nAll Athletes/Coaches/Volunteers are required to fill out the WinSport Event Waiver. CLICK HERE \nATHLETE / COACH LIFT TICKETS\nALL Athletes and Coaches are required to have a lift ticket for each day of competition. WinSport will verify that the event waiver has been completed before issuing lift tickets.  Through the online link please select the days that you require your lift tickets. Lift tickets are available from a range of January 20-25. \nPurchase your COMPETITOR lift tickets HERE \nPurchase your COACH lift tickets HERE \nCOACHES:\nPlease be aware that WinSport has a firm policy on helmets in the terrain park at any point when your skis are on. Also remind athletes that there is a firm policy on chair lift safety bars being down. \n***RACE OFFICE LOCATION: Due to the new day lodge construction our race office and event headquarters has been moved to the Festival Tent. This is a large\, private indoor space where athletes\, coaches/parents/ volunteers can make their home during the competition. This is the location for the BIB PICKUP/Check in.  Space be used as a warm up space for athletes\, meeting locations and bag drop off. Location parking is available. Festival Tent does not have food and beverage services. \n\nFestival Tent Location: \nWinSport Canada Olympic Park\n150 Canada Olympic Rd SW\nCalgary AB T3B 5R5\nCanada \nView on Apple Maps \n\n\nREGISTRATION:   REGISTER HERE\nDETAILED SCHEDULE : \n  \nThe FIS NorAM overlaps with the training windows for a Canada Cup HP/SS. Combined Schedule: \n**** Schedule UPDATED Jan 19**** \n2026 NorAM _ Can Cup Schedule DraftV4.xlsx – 2026 NorAm_CC Combined \nDaily Schedule : \n\nJanuary 20 – NorAm Arrival / Practice\nJanuary 21 – NorAm Practice\nJanuary 22 – NorAm HP 1\nJanuary 23 – NorAm HP 2\n\nEVENT OFFICIALS: \n\nTD – Thomas Schaefer (USA)\nChief of Competition : Richard Butland ( CAN)\nHead Judge : Zack Munro ( CAN)\nFreestyle Canada Representative : Charles Antoine\nFreestyle Alberta and LOC Lead : Patrick Breault\n\nQuotas and registrations are managed by National Governing Bodies (NSA’s). Contact charles@freestylecanada.ski to reach Freestyle Canada’s representative. \nTo reach the Organizing Committee please reach out to patrick@freestylealberta.ski \nVOLUNTEER SIGN UP\nRefunds: \nFull refunds are available up until the first Team Leaders meeting. \nAny refund requested after the first team leaders meeting but before the first phase of competition will be granted a 50% refund. \nNO REFUNDS granted after the start of any phase of competition.
URL:https://freestylealberta.ski/event/2026-fis-calgary-noram-hp-hp/
LOCATION:WinSport Calgary\, 88 Canada Olympic Road SW\, Calgary\, Alberta\, T3B5R5\, Canada
CATEGORIES:NORAM
END:VEVENT
BEGIN:VEVENT
DTSTART;TZID=America/Edmonton:20260124T000000
DTEND;TZID=America/Edmonton:20260125T235900
DTSTAMP:20260424T031412
CREATED:20251029T185112Z
LAST-MODIFIED:20260119T162049Z
UID:10000834-1769212800-1769385540@freestylealberta.ski
SUMMARY:2026 Canada Cup Dev Series | HP/SS | WinSport
DESCRIPTION:Freestyle Alberta and Freestyle Canada are pleased to invite all qualified freestyle skiing athletes to attend the Canadian Cup Development Series HP/SS in Calgary\, Alberta – January 24-25\, 2026.\nFor more information on the Canada Cup Development Series view the Freestyle Canada Canada Cup guidelines and Freestyle Alberta competition resources page:  \nhttps://freestylealberta.ski/event-resources-2/ \nEvent Registration:   \nREGISTER HERE  \nRefunds: \nFull refunds are available up until the first Team Leaders meeting. \nAny refund requested after the first team leaders meeting but before the first phase of competition will be granted a 50% refund. \nNO REFUNDS granted after the start of any phase of competition \nEvent Schedule:\n\nJanuary 22 – Arrival / Practice\nJanuary 23 – Practice\nJanuary 24 – Slopestyle\nJanuary 25 – Halfpipe\n\nDetailed Schedule\n****Schedule UPDATED Jan 19**** \n2026 NorAM _ Can Cup Schedule DraftV4.xlsx – 2026 NorAm_CC Combined \nWinSport Event WAIVERS\nALL Athletes and Coaches must complete the WinSport EVENT WAIVER  – click here\nATHLETE / COACH LIFT TICKETS\nAthlete / Coach Lift Passes- all athletes and coaches require lift passes. Lift tickets will NOT scan if the event waiver is not filled out.  WinSport will verify that the event waiver has been completed before issuing lift tickets.  Through the online link please select the days that you require your lift tickets. Lift tickets are available from a range of January 20-25. \nPurchase your COMPETITOR lift tickets HERE \nPurchase your COACH lift tickets HERE \nCOACHES:\nPlease be aware that WinSport has a firm policy on helmets in the terrain park at any point when your skis are on. Also remind athletes that there is a firm policy on chair lift safety bars being down. \n***RACE OFFICE LOCATION: Due to the new day lodge construction our race office and event headquarters has been moved to the Festival Tent. This is a large\, private indoor space where athletes\, coaches/parents/ volunteers can make their home during the competition. This is the location for the BIB PICKUP/Check in.  Space be used as a warm up space for athletes\, meeting locations and bag drop off. Location parking is available. Festival Tent does not have food and beverage services. \n\nFestival Tent Location: \nWinSport Canada Olympic Park\n150 Canada Olympic Rd SW\nCalgary AB T3B 5R5\nCanada \nView on Apple Maps \n\n\nEVENT OFFICIALS: \n\nTD – Carson Dorward\nChief of Competition : Richard Butland\nChief of HP: Dallas Phillips\nChief of SS : Kevin Mullie\nHead Judge : Daniel Hoerz\nScoring:  Jenn Zatorski\nFreestyle Canada Representative : Charles Antoine\nFreestyle Alberta and LOC Lead : Patrick Breault\n\nVolunteer Registration – SIGN UP HERE to volunteer \nIf you are interested in joining the team of officials please contact: patrick@freestylealberta.ski\nFree Volunteer Memberships – \nAll volunteers must hold a 2025/2026 Freestyle Alberta Volunteer Membership.  Get your Volunteer membership here!
URL:https://freestylealberta.ski/event/2026-canada-cup-dev-series-hp-ss-winsport/
LOCATION:Winsport\, Calgary\, Alberta\, Canada
CATEGORIES:Canada Cup
ATTACH;FMTTYPE=image/jpeg:https://freestylealberta.ski/wp-content/uploads/2024/06/WinSport_Logo_Stacked.jpg
END:VEVENT
BEGIN:VEVENT
DTSTART;TZID=America/Edmonton:20260129T000000
DTEND;TZID=America/Edmonton:20260130T235900
DTSTAMP:20260424T031412
CREATED:20251104T170843Z
LAST-MODIFIED:20260115T203524Z
UID:10000835-1769644800-1769817540@freestylealberta.ski
SUMMARY:2026 MOGULFEST! | PROVINCIAL | Canyon Ski Resort
DESCRIPTION:MOGULFEST!\nOn behalf of the\, Freestyle Alberta\, Central Alberta Freestyle Ski Club and Canyon Ski Resort\, it is a pleasure to invite you to  MogulFest PROVINCIAL Single Moguls competition January 30\, 2026. This Provincial competition is happening during MogulFest! A Canada Cup Dev Series\, Provincial and a Club Competition all happening on the same weekend on two separate courses!! \nMogulFest PROVINCIAL Competition bibs will be handed out at Registration and must be returned after the event. \nGeneral MogulFest Schedule:\n\nThursday\, January 29: PROVINCIAL/Canada Cup Check-in/Practice | Canada Cup Practice \nFriday\, January 30 : PROVINCIAL Practice and Single Moguls | Canada Cup Official Practice | Club Comp Check in / Practice \nSaturday\, January 31 : Single Moguls Canada Cup  | Single Moguls Club Comp \nSunday\, February 1: Dual Moguls Canada Cup | Dual Moguls Club Comp \n\nMogulFest Banquet and Social\nWhen:  January 31st\, 5:30 – 9pm \nWhere:  The Hideout\, 411 Lantern St\, Red Deer County \nCost:  $35/person (children under 5 are free).  Includes entrance\, door prize draw\, buffet meal\, non-alcoholic drinks.  Other drinks are available for purchase. \nAlso included:  Club Comp medal presentation and Silent Auction \nTickets sales end on January 26 and can be purchased here:  MogulFest Social Tickets  \nTickets can be picked up at the registration desk (lower level of Canyon Lodge) on Friday (1-3pm) and Saturday (10-3pm).  Tickets can also be picked up at the door.  Please write your name on the back of your ticket – this is your entry to the door prize draw. \n\nDetailed Event Schedule:\nMogulFEST Schedule_2026_V3.xlsx \nMogulFest Provincial Registration\nRegister Here \nVolunteer Registration\nVOLUNTEER SIGN UP \nAthlete and Coach Lift Passes\nPurchase here \nFree Volunteer Memberships\nAll volunteers must hold a 2025/2026 Freestyle Alberta Volunteer Membership.  Get your Volunteer membership here!
URL:https://freestylealberta.ski/event/2026-mogulfest-provincial-canyon-ski-resort/
LOCATION:Canyon Ski Resort\, Red Deer\, Alberta\, Canada
CATEGORIES:Provincial
ATTACH;FMTTYPE=image/png:https://freestylealberta.ski/wp-content/uploads/2019/06/freestyle-alberta-logo.png
END:VEVENT
BEGIN:VEVENT
DTSTART;VALUE=DATE:20260131
DTEND;VALUE=DATE:20260202
DTSTAMP:20260424T031412
CREATED:20251029T175702Z
LAST-MODIFIED:20260127T165940Z
UID:10000832-1769817600-1769990399@freestylealberta.ski
SUMMARY:2026 MOGULFEST Canada Cup Dev Series | MO/DM | Canyon
DESCRIPTION:MOGULFEST!\nFreestyle Alberta and Freestyle Canada are pleased to invite all qualified freestyle skiing athletes to attend the Canada Cup Development Series\, at Canyon Ski Resort in Red Deer\, Alberta\, January 31 – February 1\, 2026. The event is part of MOGULFEST! which combines a national level event with a club comp event at the same time! \nFor more information on the Canada Cup Development Series view the Freestyle Canada Canada Cup guidelines and Freestyle Alberta competition resources page:  \nEvent Resources \n \nMogulFest Banquet and Social\nWhen:  January 31st\, 5:30 – 9pm \nWhere:  The Hideout\, 411 Lantern St\, Red Deer County \nCost:  $35/person (children under 5 are free).  Includes entrance\, door prize draw\, buffet meal\, non-alcoholic drinks.  Other drinks are available for purchase. \nAlso included:  Club Comp medal presentation and Silent Auction \nTickets sales end on January 26 and can be purchased here:  MogulFest Social Tickets  \nTickets can be picked up at the registration desk (lower level of Canyon Lodge) on Friday (1-3pm) and Saturday (10-3pm).  Tickets can also be picked up at the door.  Please write your name on the back of your ticket – this is your entry to the door prize draw. \n\nEvent Registration: \nREGISTER HERE \nGeneral MogulFest Schedule:\n\nThursday\, January 29: PROVINCIAL/Canada Cup Check-in/Practice | Canada Cup Practice \nFriday\, January 30 : PROVINCIAL Practice and Single Moguls | Canada Cup Official Practice | Club Comp Check in / Practice \nSaturday\, January 31 : Single Moguls Canada Cup  | Single Moguls Club Comp \nSunday\, February 1: Dual Moguls Canada Cup | Dual Moguls Club Comp \n\nDETAILED SCHEDULE\nMogulFEST Schedule_2026_V3 \nVolunteer Registration\nVOLUNTEER SIGN UP LINK \nFree Volunteer Memberships\nAll volunteers must hold a 2025/2026 Freestyle Alberta Volunteer Membership.  Get your Volunteer membership here! \nAthlete and Coach Lift Passes\nPre-ordered Lift Tickets \nPre-ordered lift tickets must be pre-purchased online no less than 24 hours in advance. Walk-ups to buy athlete tickets at the ticket window will charged at regular Canyon pricing. Each competitor and Coach is responsible for the purchase of their own lift ticket for each day of the event. Lift tickets are non-refundable. Pick up your lift tickets at the event registration desk.\nPurchase your lift tickets HERE \n  \n  \n 
URL:https://freestylealberta.ski/event/2026-canada-cup-dev-series-mo-dm-canyon-ski-resort/
LOCATION:Canyon Ski Resort\, Red Deer\, Alberta\, Canada
CATEGORIES:Canada Cup
ATTACH;FMTTYPE=image/jpeg:https://freestylealberta.ski/wp-content/uploads/2024/04/52676602756_60b79cda94_k.jpg
END:VEVENT
BEGIN:VEVENT
DTSTART;VALUE=DATE:20260131
DTEND;VALUE=DATE:20260202
DTSTAMP:20260424T031412
CREATED:20251029T182212Z
LAST-MODIFIED:20260113T211113Z
UID:10000833-1769817600-1769990399@freestylealberta.ski
SUMMARY:2026 MOGULFEST! | Central Club Comp | Canyon Ski Resort
DESCRIPTION:MOGULFEST!\nOn behalf of the\, Freestyle Alberta\, Central Alberta Freestyle Ski Club and Canyon Ski Resort\, it is a pleasure to invite you to attend MogulFest January 31 – February 1\, 2026. This event will feature a Club Comp mogul event happening at the same time as a Canada Cup Dev Series mogul competition.  2 separate courses and events rocking at the same time! \nMogulFest Banquet and Social\nWhen:  January 31st\, 5:30 – 9pm \nWhere:  The Hideout\, 411 Lantern St\, Red Deer County \nCost:  $35/person (children under 5 are free).  Includes entrance\, door prize draw\, buffet meal\, non-alcoholic drinks.  Other drinks are available for purchase. \nAlso included:  Club Comp medal presentation and Silent Auction \nTickets sales end on January 26 and can be purchased here:  MogulFest Social Tickets  \nTickets can be picked up at the registration desk (lower level of Canyon Lodge) on Friday (1-3pm) and Saturday (10-3pm).  Tickets can also be picked up at the door.  Please write your name on the back of your ticket – this is your entry to the door prize draw. \n  \n2026 Club Competition BIB\nPurchase Here \nGeneral Schedule\n\nFriday\, January 30: Club Comp Check in / Practice\nSaturday\, January 31 : Single Moguls\nSunday\, February 1: Dual Moguls\n\nDetailed Event Schedule:\n…coming soon \nClub Comp Registration\nREGISTER HERE \nVolunteer Registration\n…coming soon \nAthlete and Coach Lift Passes\nPurchase lift tickets here \nFree Volunteer Memberships\nAll volunteers must hold a 2025/2026 Freestyle Alberta Volunteer Membership.  Get your Volunteer membership here!
URL:https://freestylealberta.ski/event/mogulfest-central-club-comp-canyon-ski-resort/
LOCATION:Canyon Ski Resort\, Red Deer\, Alberta\, Canada
CATEGORIES:Club Competition
ATTACH;FMTTYPE=image/jpeg:https://freestylealberta.ski/wp-content/uploads/2024/01/profile_photo.jpeg
END:VEVENT
END:VCALENDAR