BEGIN:VCALENDAR
VERSION:2.0
PRODID:-//Freestyle Alberta - ECPv6.15.20//NONSGML v1.0//EN
CALSCALE:GREGORIAN
METHOD:PUBLISH
X-WR-CALNAME:Freestyle Alberta
X-ORIGINAL-URL:https://freestylealberta.ski
X-WR-CALDESC:Events for Freestyle Alberta
REFRESH-INTERVAL;VALUE=DURATION:PT1H
X-Robots-Tag:noindex
X-PUBLISHED-TTL:PT1H
BEGIN:VTIMEZONE
TZID:America/Edmonton
BEGIN:DAYLIGHT
TZOFFSETFROM:-0700
TZOFFSETTO:-0600
TZNAME:MDT
DTSTART:20170312T090000
END:DAYLIGHT
BEGIN:STANDARD
TZOFFSETFROM:-0600
TZOFFSETTO:-0700
TZNAME:MST
DTSTART:20171105T080000
END:STANDARD
BEGIN:DAYLIGHT
TZOFFSETFROM:-0700
TZOFFSETTO:-0600
TZNAME:MDT
DTSTART:20180311T090000
END:DAYLIGHT
BEGIN:STANDARD
TZOFFSETFROM:-0600
TZOFFSETTO:-0700
TZNAME:MST
DTSTART:20181104T080000
END:STANDARD
BEGIN:DAYLIGHT
TZOFFSETFROM:-0700
TZOFFSETTO:-0600
TZNAME:MDT
DTSTART:20190310T090000
END:DAYLIGHT
BEGIN:STANDARD
TZOFFSETFROM:-0600
TZOFFSETTO:-0700
TZNAME:MST
DTSTART:20191103T080000
END:STANDARD
END:VTIMEZONE
BEGIN:VEVENT
DTSTART;VALUE=DATE:20181118
DTEND;VALUE=DATE:20181119
DTSTAMP:20260423T073805
CREATED:20181007T164648Z
LAST-MODIFIED:20181007T164912Z
UID:10000435-1542499200-1542585599@freestylealberta.ski
SUMMARY:AFP Judges Clinic (SS/HP)
DESCRIPTION:Coaches\, C & D (Provincial) level judges welcome \n(more info to follow)
URL:https://freestylealberta.ski/event/afp-judges-clinic-ss-hp/
LOCATION:Winsport – BNTC\, Calgary\, Alberta\, Canada
CATEGORIES:Judging Clinic
END:VEVENT
BEGIN:VEVENT
DTSTART;VALUE=DATE:20181118
DTEND;VALUE=DATE:20181119
DTSTAMP:20260423T073805
CREATED:20181007T164648Z
LAST-MODIFIED:20181007T164648Z
UID:10000650-1542499200-1542585599@freestylealberta.ski
SUMMARY:AFP Judges Clinic (SS/HP)
DESCRIPTION:Coaches\, C & D (Provincial) level judges welcome \n(more info to follow)
URL:https://freestylealberta.ski/event/afp-judges-clinic-ss-hp-2/
LOCATION:Winsport – BNTC\, Calgary\, Alberta\, Canada
CATEGORIES:Judging Clinic
END:VEVENT
END:VCALENDAR