BEGIN:VCALENDAR
VERSION:2.0
PRODID:-//Freestyle Alberta - ECPv6.15.20//NONSGML v1.0//EN
CALSCALE:GREGORIAN
METHOD:PUBLISH
X-WR-CALNAME:Freestyle Alberta
X-ORIGINAL-URL:https://freestylealberta.ski
X-WR-CALDESC:Events for Freestyle Alberta
REFRESH-INTERVAL;VALUE=DURATION:PT1H
X-Robots-Tag:noindex
X-PUBLISHED-TTL:PT1H
BEGIN:VTIMEZONE
TZID:America/Edmonton
BEGIN:DAYLIGHT
TZOFFSETFROM:-0700
TZOFFSETTO:-0600
TZNAME:MDT
DTSTART:20240310T090000
END:DAYLIGHT
BEGIN:STANDARD
TZOFFSETFROM:-0600
TZOFFSETTO:-0700
TZNAME:MST
DTSTART:20241103T080000
END:STANDARD
BEGIN:DAYLIGHT
TZOFFSETFROM:-0700
TZOFFSETTO:-0600
TZNAME:MDT
DTSTART:20250309T090000
END:DAYLIGHT
BEGIN:STANDARD
TZOFFSETFROM:-0600
TZOFFSETTO:-0700
TZNAME:MST
DTSTART:20251102T080000
END:STANDARD
BEGIN:DAYLIGHT
TZOFFSETFROM:-0700
TZOFFSETTO:-0600
TZNAME:MDT
DTSTART:20260308T090000
END:DAYLIGHT
BEGIN:STANDARD
TZOFFSETFROM:-0600
TZOFFSETTO:-0700
TZNAME:MST
DTSTART:20261101T080000
END:STANDARD
END:VTIMEZONE
BEGIN:VEVENT
DTSTART;VALUE=DATE:20251003
DTEND;VALUE=DATE:20251006
DTSTAMP:20260422T042139
CREATED:20250916T004831Z
LAST-MODIFIED:20250916T005004Z
UID:10000818-1759449600-1759708799@freestylealberta.ski
SUMMARY:AIR 3 AT EVOLUTION FREESTYLE
DESCRIPTION:DETAILS & REGISTRATION
URL:https://freestylealberta.ski/event/air-3-at-evolution-freestyle/
LOCATION:EVOLUTION FREESTYLE\, Range Rd 241A\, Tawatinaw\, Alberta\, T0G 1Z0\, Canada
CATEGORIES:Coach Development
END:VEVENT
BEGIN:VEVENT
DTSTART;VALUE=DATE:20250823
DTEND;VALUE=DATE:20250825
DTSTAMP:20260422T042139
CREATED:20250731T194937Z
LAST-MODIFIED:20250731T200642Z
UID:10000815-1755907200-1756079999@freestylealberta.ski
SUMMARY:Girstylerz Summer Camp at Evolution Freestyle
DESCRIPTION:CAMP REGISTRATION\nCAMP DETAILS: Girlstylerz Canada Training Camp.docx \n \n 
URL:https://freestylealberta.ski/event/girstylerz-summer-camp-at-evolution-freestyle/
LOCATION:EVOLUTION FREESTYLE\, Range Rd 241A\, Tawatinaw\, Alberta\, T0G 1Z0\, Canada
CATEGORIES:Females In Freestyle,Training Camps
END:VEVENT
END:VCALENDAR