BEGIN:VCALENDAR
VERSION:2.0
PRODID:-//Freestyle Alberta - ECPv6.15.20//NONSGML v1.0//EN
CALSCALE:GREGORIAN
METHOD:PUBLISH
X-WR-CALNAME:Freestyle Alberta
X-ORIGINAL-URL:https://freestylealberta.ski
X-WR-CALDESC:Events for Freestyle Alberta
REFRESH-INTERVAL;VALUE=DURATION:PT1H
X-Robots-Tag:noindex
X-PUBLISHED-TTL:PT1H
BEGIN:VTIMEZONE
TZID:America/Edmonton
BEGIN:DAYLIGHT
TZOFFSETFROM:-0700
TZOFFSETTO:-0600
TZNAME:MDT
DTSTART:20160313T090000
END:DAYLIGHT
BEGIN:STANDARD
TZOFFSETFROM:-0600
TZOFFSETTO:-0700
TZNAME:MST
DTSTART:20161106T080000
END:STANDARD
BEGIN:DAYLIGHT
TZOFFSETFROM:-0700
TZOFFSETTO:-0600
TZNAME:MDT
DTSTART:20170312T090000
END:DAYLIGHT
BEGIN:STANDARD
TZOFFSETFROM:-0600
TZOFFSETTO:-0700
TZNAME:MST
DTSTART:20171105T080000
END:STANDARD
BEGIN:DAYLIGHT
TZOFFSETFROM:-0700
TZOFFSETTO:-0600
TZNAME:MDT
DTSTART:20180311T090000
END:DAYLIGHT
BEGIN:STANDARD
TZOFFSETFROM:-0600
TZOFFSETTO:-0700
TZNAME:MST
DTSTART:20181104T080000
END:STANDARD
BEGIN:DAYLIGHT
TZOFFSETFROM:-0700
TZOFFSETTO:-0600
TZNAME:MDT
DTSTART:20190310T090000
END:DAYLIGHT
BEGIN:STANDARD
TZOFFSETFROM:-0600
TZOFFSETTO:-0700
TZNAME:MST
DTSTART:20191103T080000
END:STANDARD
BEGIN:DAYLIGHT
TZOFFSETFROM:-0700
TZOFFSETTO:-0600
TZNAME:MDT
DTSTART:20200308T090000
END:DAYLIGHT
BEGIN:STANDARD
TZOFFSETFROM:-0600
TZOFFSETTO:-0700
TZNAME:MST
DTSTART:20201101T080000
END:STANDARD
END:VTIMEZONE
BEGIN:VEVENT
DTSTART;VALUE=DATE:20190309
DTEND;VALUE=DATE:20190311
DTSTAMP:20260423T034218
CREATED:20181103T181810Z
LAST-MODIFIED:20190217T170251Z
UID:10000464-1552089600-1552262399@freestylealberta.ski
SUMMARY:CANADA CUP FERNIE MO/DM presented by TOYO TIRES
DESCRIPTION:Here’s the invitation for the upcoming Canada Cup in Fernie! 
URL:https://freestylealberta.ski/event/canada-cup-fernie-mo-dm-presented-by-toyo-tires/
LOCATION:Fernie Alpine Resort\, Fernie\, BC\, Canada
CATEGORIES:Canada Cup
END:VEVENT
BEGIN:VEVENT
DTSTART;VALUE=DATE:20190309
DTEND;VALUE=DATE:20190311
DTSTAMP:20260423T034218
CREATED:20181103T181810Z
LAST-MODIFIED:20181103T181810Z
UID:10000659-1552089600-1552262399@freestylealberta.ski
SUMMARY:CANADA CUP FERNIE MO/DM presented by TOYO TIRES
DESCRIPTION:Here’s the invitation for the upcoming Canada Cup in Fernie! 
URL:https://freestylealberta.ski/event/canada-cup-fernie-mo-dm-presented-by-toyo-tires-2/
LOCATION:Fernie Alpine Resort\, Fernie\, BC\, Canada
CATEGORIES:Canada Cup
END:VEVENT
BEGIN:VEVENT
DTSTART;VALUE=DATE:20190118
DTEND;VALUE=DATE:20190121
DTSTAMP:20260423T034218
CREATED:20181008T204206Z
LAST-MODIFIED:20181231T041244Z
UID:10000439-1547769600-1548028799@freestylealberta.ski
SUMMARY:Club Competition - Fernie
DESCRIPTION:Join us for the first club competition of the season in Fernie\, BC. Check with your coaches or team manager for details! \nInvitation is here!  \n  \n \n  \n 
URL:https://freestylealberta.ski/event/club-competition-fernie/
LOCATION:Fernie Alpine Resort\, Fernie\, BC\, Canada
CATEGORIES:Club Competition
END:VEVENT
BEGIN:VEVENT
DTSTART;VALUE=DATE:20190118
DTEND;VALUE=DATE:20190121
DTSTAMP:20260423T034218
CREATED:20181008T204206Z
LAST-MODIFIED:20181008T204206Z
UID:10000654-1547769600-1548028799@freestylealberta.ski
SUMMARY:Club Competition - Fernie
DESCRIPTION:Join us for the first club competition of the season in Fernie\, BC. Check with your coaches or team manager for details! \nInvitation is here!  \n  \n \n  \n 
URL:https://freestylealberta.ski/event/club-competition-fernie-2/
LOCATION:Fernie Alpine Resort\, Fernie\, BC\, Canada
CATEGORIES:Club Competition
END:VEVENT
BEGIN:VEVENT
DTSTART;VALUE=DATE:20181208
DTEND;VALUE=DATE:20181210
DTSTAMP:20260423T034218
CREATED:20181115T153346Z
LAST-MODIFIED:20181115T153346Z
UID:10000407-1544227200-1544399999@freestylealberta.ski
SUMMARY:FUNDAMENTALZ COACH COURSE - FERNIE
DESCRIPTION:The NCCP Freestyle Canada FUNdamentalz Coach Course ​is ​the ​introductory ​level ​coaching ​course formerly know as Club Coach. \nRegister for this course here.  \nThis 2 day course will be Facilitated by Chris Ebbern at Fernie Alpine Resort December 8/9\, 2018 (Saturday and Sunday) \nOn successful completion of this course\, you will be able to: \n\nDemonstrate balanced and dynamic short and medium parallel skiing on blue terrain\, freestyle stance in mogul skiing\, basic box skills\, 180s and simple uprights on small jumps and switch wedge skiing.\nUse FUNdamentalz Coach Pocket Guides lesson plans and reports cards.\nBe able to teach age-appropriate lessons (aged 6+) in a child-centered manner.\nBe able to develop an Emergency Action Plan and complete accident report form.\n\nBe familiar with: \n\nThe Freestyle Canada NCCP coach education system.\nThe HIGH FIVE® approach to healthy child development.\nRisk management practices required to lead programs in ski environments.\n\nYou will need to bring a helmet\, ​ski ​gear ​and ​any ​food/water ​you ​may ​need. ​There ​will ​be ​indoor ​and ​outdoor ​segments ​of ​the ​course\, ​so ​please ​dress ​accordingly.\n​The ​course ​fee ​does ​not ​include ​lift ​tickets.​ \n​Prerequisites: FC Coaches license (membership) \nMore ​information ​about ​the ​Coach ​Pathway ​and ​courses ​can ​be ​found ​through the ​Freestyle Canada website. \nPlease register for this course here.
URL:https://freestylealberta.ski/event/fundamentalz-coach-course-fernie/
LOCATION:Fernie Alpine Resort\, Fernie\, BC\, Canada
CATEGORIES:Coach Development
END:VEVENT
BEGIN:VEVENT
DTSTART;VALUE=DATE:20181208
DTEND;VALUE=DATE:20181210
DTSTAMP:20260423T034218
CREATED:20181115T153346Z
LAST-MODIFIED:20181115T153346Z
UID:10000669-1544227200-1544399999@freestylealberta.ski
SUMMARY:FUNDAMENTALZ COACH COURSE - FERNIE
DESCRIPTION:The NCCP Freestyle Canada FUNdamentalz Coach Course ​is ​the ​introductory ​level ​coaching ​course formerly know as Club Coach. \nRegister for this course here.  \nThis 2 day course will be Facilitated by Chris Ebbern at Fernie Alpine Resort December 8/9\, 2018 (Saturday and Sunday) \nOn successful completion of this course\, you will be able to: \n\nDemonstrate balanced and dynamic short and medium parallel skiing on blue terrain\, freestyle stance in mogul skiing\, basic box skills\, 180s and simple uprights on small jumps and switch wedge skiing.\nUse FUNdamentalz Coach Pocket Guides lesson plans and reports cards.\nBe able to teach age-appropriate lessons (aged 6+) in a child-centered manner.\nBe able to develop an Emergency Action Plan and complete accident report form.\n\nBe familiar with: \n\nThe Freestyle Canada NCCP coach education system.\nThe HIGH FIVE® approach to healthy child development.\nRisk management practices required to lead programs in ski environments.\n\nYou will need to bring a helmet\, ​ski ​gear ​and ​any ​food/water ​you ​may ​need. ​There ​will ​be ​indoor ​and ​outdoor ​segments ​of ​the ​course\, ​so ​please ​dress ​accordingly.\n​The ​course ​fee ​does ​not ​include ​lift ​tickets.​ \n​Prerequisites: FC Coaches license (membership) \nMore ​information ​about ​the ​Coach ​Pathway ​and ​courses ​can ​be ​found ​through the ​Freestyle Canada website. \nPlease register for this course here.
URL:https://freestylealberta.ski/event/fundamentalz-coach-course-fernie-2/
LOCATION:Fernie Alpine Resort\, Fernie\, BC\, Canada
CATEGORIES:Coach Development
END:VEVENT
BEGIN:VEVENT
DTSTART;VALUE=DATE:20171208
DTEND;VALUE=DATE:20171211
DTSTAMP:20260423T034218
CREATED:20171026T032024Z
LAST-MODIFIED:20171116T020403Z
UID:10000420-1512691200-1512950399@freestylealberta.ski
SUMMARY:Club Coach - Fernie
DESCRIPTION:Click here for more info on this course.\n  \n  \n 
URL:https://freestylealberta.ski/event/club-coach-2/
LOCATION:Fernie Alpine Resort\, Fernie\, BC\, Canada
CATEGORIES:Coach Development
END:VEVENT
BEGIN:VEVENT
DTSTART;VALUE=DATE:20171208
DTEND;VALUE=DATE:20171211
DTSTAMP:20260423T034218
CREATED:20171026T032024Z
LAST-MODIFIED:20171026T032024Z
UID:10000633-1512691200-1512950399@freestylealberta.ski
SUMMARY:Club Coach - Fernie
DESCRIPTION:Click here for more info on this course.\n  \n  \n 
URL:https://freestylealberta.ski/event/club-coach-2-2/
LOCATION:Fernie Alpine Resort\, Fernie\, BC\, Canada
CATEGORIES:Coach Development
END:VEVENT
END:VCALENDAR