BEGIN:VCALENDAR
VERSION:2.0
PRODID:-//Freestyle Alberta - ECPv6.15.20//NONSGML v1.0//EN
CALSCALE:GREGORIAN
METHOD:PUBLISH
X-ORIGINAL-URL:https://freestylealberta.ski
X-WR-CALDESC:Events for Freestyle Alberta
REFRESH-INTERVAL;VALUE=DURATION:PT1H
X-Robots-Tag:noindex
X-PUBLISHED-TTL:PT1H
BEGIN:VTIMEZONE
TZID:America/Edmonton
BEGIN:DAYLIGHT
TZOFFSETFROM:-0700
TZOFFSETTO:-0600
TZNAME:MDT
DTSTART:20250309T090000
END:DAYLIGHT
BEGIN:STANDARD
TZOFFSETFROM:-0600
TZOFFSETTO:-0700
TZNAME:MST
DTSTART:20251102T080000
END:STANDARD
BEGIN:DAYLIGHT
TZOFFSETFROM:-0700
TZOFFSETTO:-0600
TZNAME:MDT
DTSTART:20260308T090000
END:DAYLIGHT
BEGIN:STANDARD
TZOFFSETFROM:-0600
TZOFFSETTO:-0700
TZNAME:MST
DTSTART:20261101T080000
END:STANDARD
BEGIN:DAYLIGHT
TZOFFSETFROM:-0700
TZOFFSETTO:-0600
TZNAME:MDT
DTSTART:20270314T090000
END:DAYLIGHT
BEGIN:STANDARD
TZOFFSETFROM:-0600
TZOFFSETTO:-0700
TZNAME:MST
DTSTART:20271107T080000
END:STANDARD
END:VTIMEZONE
BEGIN:VEVENT
DTSTART;VALUE=DATE:20260213
DTEND;VALUE=DATE:20260217
DTSTAMP:20260423T062558
CREATED:20251101T060033Z
LAST-MODIFIED:20260108T202844Z
UID:10000599-1770940800-1771286399@freestylealberta.ski
SUMMARY:2026 Alberta Winter Games - Cold Lake\, AB
DESCRIPTION:AWG Event Schedule 2026 \n  \nThe Alberta Winter Games (AWG) Freestyle Skiing event for youth ages 12 to 15 will be held at Kinasoo Ridge Ski area in Cold Lake Alberta\, the host for the 2026 Alberta Winter Games \nEligible athletes need to attend the AWG Qualifier December 20-21\, 2025 in Canyon\, AB \n2026 Alberta Winter Games event information \nYour first point of contact regarding the games is your ski club’s coaching team. \nVolunteering Opportunities: …link coming soon
URL:https://freestylealberta.ski/event/alberta-winter-games/
LOCATION:Kinasoo Ridge\, 63231 Range Rd 411\, Cold Lake\, Alberta\, T9M 0A1\, Canada
CATEGORIES:Alberta Winter Games
ATTACH;FMTTYPE=image/png:https://freestylealberta.ski/wp-content/uploads/2025/08/lakeland_awg-lr-wide-full-rgb.png
END:VEVENT
END:VCALENDAR