BEGIN:VCALENDAR
VERSION:2.0
PRODID:-//Freestyle Alberta - ECPv6.15.20//NONSGML v1.0//EN
CALSCALE:GREGORIAN
METHOD:PUBLISH
X-WR-CALNAME:Freestyle Alberta
X-ORIGINAL-URL:https://freestylealberta.ski
X-WR-CALDESC:Events for Freestyle Alberta
REFRESH-INTERVAL;VALUE=DURATION:PT1H
X-Robots-Tag:noindex
X-PUBLISHED-TTL:PT1H
BEGIN:VTIMEZONE
TZID:America/Edmonton
BEGIN:DAYLIGHT
TZOFFSETFROM:-0700
TZOFFSETTO:-0600
TZNAME:MDT
DTSTART:20180311T090000
END:DAYLIGHT
BEGIN:STANDARD
TZOFFSETFROM:-0600
TZOFFSETTO:-0700
TZNAME:MST
DTSTART:20181104T080000
END:STANDARD
BEGIN:DAYLIGHT
TZOFFSETFROM:-0700
TZOFFSETTO:-0600
TZNAME:MDT
DTSTART:20190310T090000
END:DAYLIGHT
BEGIN:STANDARD
TZOFFSETFROM:-0600
TZOFFSETTO:-0700
TZNAME:MST
DTSTART:20191103T080000
END:STANDARD
BEGIN:DAYLIGHT
TZOFFSETFROM:-0700
TZOFFSETTO:-0600
TZNAME:MDT
DTSTART:20200308T090000
END:DAYLIGHT
BEGIN:STANDARD
TZOFFSETFROM:-0600
TZOFFSETTO:-0700
TZNAME:MST
DTSTART:20201101T080000
END:STANDARD
END:VTIMEZONE
BEGIN:VEVENT
DTSTART;VALUE=DATE:20190315
DTEND;VALUE=DATE:20190318
DTSTAMP:20260421T142639
CREATED:20181103T182124Z
LAST-MODIFIED:20181103T182124Z
UID:10000465-1552608000-1552867199@freestylealberta.ski
SUMMARY:CANADA CUP HP/Slope MT STLOUIS MOONSTONE presented by TOYO TIRES
DESCRIPTION:
URL:https://freestylealberta.ski/event/canada-cup-hp-slope-mt-stlouis-moonstone-presented-by-toyo-tires/
LOCATION:Mount St.Louis Moonstone\, Coldwater\, ON\, Canada
CATEGORIES:Canada Cup
END:VEVENT
BEGIN:VEVENT
DTSTART;VALUE=DATE:20190315
DTEND;VALUE=DATE:20190318
DTSTAMP:20260421T142639
CREATED:20181103T182124Z
LAST-MODIFIED:20181103T182124Z
UID:10000660-1552608000-1552867199@freestylealberta.ski
SUMMARY:CANADA CUP HP/Slope MT STLOUIS MOONSTONE presented by TOYO TIRES
DESCRIPTION:
URL:https://freestylealberta.ski/event/canada-cup-hp-slope-mt-stlouis-moonstone-presented-by-toyo-tires-2/
LOCATION:Mount St.Louis Moonstone\, Coldwater\, ON\, Canada
CATEGORIES:Canada Cup
END:VEVENT
END:VCALENDAR